BEGIN:VCALENDAR
VERSION:2.0
PRODID:-//Saue kultuuri- ja huvikeskus - ECPv6.2.1//NONSGML v1.0//EN
CALSCALE:GREGORIAN
METHOD:PUBLISH
X-WR-CALNAME:Saue kultuuri- ja huvikeskus
X-ORIGINAL-URL:https://sauekultuur.ee
X-WR-CALDESC:Events for Saue kultuuri- ja huvikeskus
REFRESH-INTERVAL;VALUE=DURATION:PT1H
X-Robots-Tag:noindex
X-PUBLISHED-TTL:PT1H
BEGIN:VTIMEZONE
TZID:Europe/Helsinki
BEGIN:DAYLIGHT
TZOFFSETFROM:+0200
TZOFFSETTO:+0300
TZNAME:EEST
DTSTART:20260329T010000
END:DAYLIGHT
BEGIN:STANDARD
TZOFFSETFROM:+0300
TZOFFSETTO:+0200
TZNAME:EET
DTSTART:20261025T010000
END:STANDARD
END:VTIMEZONE
BEGIN:VEVENT
DTSTART;VALUE=DATE:20260406
DTEND;VALUE=DATE:20260601
DTSTAMP:20260420T141734
CREATED:20260413T153135Z
LAST-MODIFIED:20260413T153135Z
UID:5269-1775433600-1780271999@sauekultuur.ee
SUMMARY:Raido Hubergi fotonäitus
DESCRIPTION:Aprillikuu tõi Saue vallamaja akendele ka uue näituse  Kuni mai lõpuni saab uudistada Raido Hubergi fotonäitust\, mis sündis rännakul Edela-Ameerika avarustes\, kus puuduvad inimtekkelised maamärgid ja fookuses on hoopis looduslikud pühamud \n\n\nTee oma jalutuskäigul väike paus vallamaja juures ja naudi tasuta näitust!
URL:https://sauekultuur.ee/sundmus/raido-hubergi-fotonaitus-2/
LOCATION:Saue vallamaja\, Kütise 8\, Saue\, Saue vald\, Eesti
ATTACH;FMTTYPE=image/png:https://sauekultuur.ee/wp-content/uploads/2026/04/Raido-Hubergi-fotonaitus.png
END:VEVENT
BEGIN:VEVENT
DTSTART;TZID=Europe/Helsinki:20260421T190000
DTEND;TZID=Europe/Helsinki:20260421T213000
DTSTAMP:20260420T141734
CREATED:20260112T224045Z
LAST-MODIFIED:20260323T101236Z
UID:5097-1776798000-1776807000@sauekultuur.ee
SUMMARY:Kontsert-etendus "Täna õhtul Indrek Taalmaa ja Jüri Vlassov"
DESCRIPTION:Indrek Taalmaa ja Jüri Vlassov panevad seljad kokku\, et tuua lavale ehe\, soe ja pisut pöörane humoorikas õhtu\, mis naerutab kõhulihased valusaks. \nSee ei ole teater. \nSee ei ole stand-up. \nSee on pigem nagu vanakooli estraadikava oma parimas tähenduses – mõnus segu mahlakatest lugudest\, naljadest\, Kuldse Trio lustakatest vanadest lauludest ja elu enda koomikast. \nKava toimub kahes vaatuses: tund + tund\, vahel mõnus puhkepaus. \nPiletid müügil Fientas ja Laagri kultuurikeskuses kohapeal. Täispilet 18€\, soovuspilet (pensionärid ja õpilased 15€)
URL:https://sauekultuur.ee/sundmus/kontsert-etendus-tana-ohtul-indrek-taalmaa-ja-juri-vlassov/
LOCATION:Laagri kultuurikeskus\, Veskitammi 8\, Harju maakond\, Laagri
ATTACH;FMTTYPE=image/webp:https://sauekultuur.ee/wp-content/uploads/2026/01/img-3.webp
END:VEVENT
BEGIN:VEVENT
DTSTART;TZID=Europe/Helsinki:20260424T190000
DTEND;TZID=Europe/Helsinki:20260424T210000
DTSTAMP:20260420T141734
CREATED:20260401T215836Z
LAST-MODIFIED:20260401T215836Z
UID:5256-1777057200-1777064400@sauekultuur.ee
SUMMARY:Hasartne ja strateegiline VILLAK
DESCRIPTION:24. aprillil kell 19 toimub VILLAKU hooaja viimane mäng! Mälumängule ootame kuni kuueliikmelisi võistkondi! Vastamine toimub nutiseadmega. Võistkonna osalustasu on 15 eurot. Kohapeal pakume ka kergeid suupisteid ja kohvi. Võta sõbrad kaasa ja veeda kvaliteetaega meiega! \nMälumängu viib läbi Julius Liiv : “Kogemused mälumängudega on kestnud üle kümne aasta\, koostanud küsimusi nii noortele kui vanadele\, Eestis ja välismaal\, televiisorisse kui sünnipäevale. Olen igapäevaselt õpetaja ning kursis uudistega\, mistõttu püüan olla võimalikult aktuaalne. Minu eesmärk on\, et igaüks tunneks end mälumängul mugavalt\, sõltumata oma teadmistest ning kõigi meel saaks lahutatud. Seepärast on minu küsimused võimalikult mitmekülgsed ja haakuvad erinevate eluvaldkondadega ning püüan tuua mängudesse formaate\, mis rõhuvad pigem strateegiale kui faktiteadmistel. Mõnikord hoopis loov mõtlemine ja hea tiimitöö viivad sihile. Loodan kohtuda sinuga minu korraldatud mälumängul!”\nRegistreerimine mälumängule: LINK
URL:https://sauekultuur.ee/sundmus/hasartne-ja-strateegiline-villak-7/
LOCATION:Riisipere kultuurimaja\, Nissi tee 53c\, Riisipere\, Saue vald\, Eesti
ATTACH;FMTTYPE=image/jpeg:https://sauekultuur.ee/wp-content/uploads/2026/04/658380447_1347475460763717_2153918063186663223_n.jpg
END:VEVENT
BEGIN:VEVENT
DTSTART;TZID=Europe/Helsinki:20260425T110000
DTEND;TZID=Europe/Helsinki:20260425T120000
DTSTAMP:20260420T141734
CREATED:20260217T095008Z
LAST-MODIFIED:20260217T095008Z
UID:5197-1777114800-1777118400@sauekultuur.ee
SUMMARY:Lastehommik: etendus "Jussikese 12 sõpra”
DESCRIPTION:Silvi Väljali armastatud lasteraamat „Jussikese seitse sõpra“ ilmus 60 aastat tagasi\, mille abil on lugema õppinud mitu põlvkonda lapsi. 2024. aastal ilmus raamatule järg „Jussikese 12 sõpra“\, mille idee autor on kirjaniku lapselaps Reet Kuusalu ja teksti autoriks ning raamatu põhjal valminud näidendi autoriks Jaanus Vaiksoo. \n“Jussikese 12 sõpra” lavastuses astuvad üles hiljuti teatrikooli lõpetanud vahvad lapsemeelsed näitlejad Maria Valk\, Pirte Laura Lember ja Theodor Tabor\, lavastajaks Erki Aule. \nLavastus  on ühes vaatuses\, kestab 50 minutit ja on eriti sobilik vaatajatele vanuses 5–8 eluaastat\, kuid ka noorematele lastele ning nende vanematele ja vanavanematele. Lavastus sobib hästi ka eesti keele õppeks teise keelena. \nIgal külastajal peab olema pilet. Sülepileteid ei ole. Piletid müügil Fientas ja Laagri kultuurikeskuses. NB. Kui Fientas on üritus välja müüdud\, siis kohapeal müüki ei toimu!
URL:https://sauekultuur.ee/sundmus/lastehommik-etendus-jussikese-12-sopra/
LOCATION:Laagri kultuurikeskus\, Veskitammi 8\, Harju maakond\, Laagri
ATTACH;FMTTYPE=image/webp:https://sauekultuur.ee/wp-content/uploads/2026/02/img-1.webp
END:VEVENT
BEGIN:VEVENT
DTSTART;TZID=Europe/Helsinki:20260507T190000
DTEND;TZID=Europe/Helsinki:20260507T200000
DTSTAMP:20260420T141734
CREATED:20260210T144534Z
LAST-MODIFIED:20260210T144534Z
UID:5177-1778180400-1778184000@sauekultuur.ee
SUMMARY:Emadepäeva kontsert: Hanna-Liina Võsa ja Ooper-Kvartett
DESCRIPTION:Emadepäeva puhul ootab Saue muusikasõpru tõeline maiuspala. 7. mail kell 19.00 tulevad Saue vallamaja aatriumi lavale armastatud Hanna-Liina Võsa ja Ooper-Kvartett kavaga “Helisev muusika”. \nPiletid saadaval Fientas ja tund enne üritust kohapeal.
URL:https://sauekultuur.ee/sundmus/emadepaeva-kontsert-hanna-liina-vosa-ja-ooper-kvartett/
LOCATION:Saue vallamaja\, Kütise 8\, Saue\, Saue vald\, Eesti
ATTACH;FMTTYPE=image/png:https://sauekultuur.ee/wp-content/uploads/2026/02/SAUE-mo-HANNA-A1-v1.png
END:VEVENT
BEGIN:VEVENT
DTSTART;TZID=Europe/Helsinki:20260512T110000
DTEND;TZID=Europe/Helsinki:20260512T140000
DTSTAMP:20260420T141734
CREATED:20250827T182352Z
LAST-MODIFIED:20260325T114743Z
UID:4780-1778583600-1778594400@sauekultuur.ee
SUMMARY:Väärikate ülikooli maikuu loeng
DESCRIPTION:Väärikate ülikooli novembrikuu loeng toimub 13. novembril kell 11.00 Riisipere kultuurimajas. Tervise teemadel tuleb rääkima Eero Merilind. Loengule järgneb pidulik diplomite üleandmine.
URL:https://sauekultuur.ee/sundmus/vaarikate-ulikooli-maikuu-loeng/
LOCATION:Riisipere kultuurimaja\, Nissi tee 53c\, Riisipere\, Saue vald\, Eesti
ATTACH;FMTTYPE=image/png:https://sauekultuur.ee/wp-content/uploads/2025/08/VU-mai-scaled.png
END:VEVENT
BEGIN:VEVENT
DTSTART;TZID=Europe/Helsinki:20260512T190000
DTEND;TZID=Europe/Helsinki:20260512T203000
DTSTAMP:20260420T141734
CREATED:20260416T150328Z
LAST-MODIFIED:20260416T150328Z
UID:5275-1778612400-1778617800@sauekultuur.ee
SUMMARY:KINO: "Õnn on elada me maal"
DESCRIPTION:Punkbänd Velikije Luki astub vastu Nõukogude võimule ja trotsib vintsutusi\, kuni julgustavate alkoholiaurude ja õnnelike juhuste toel toob kaasa punaimpeeriumi lagunemise.\nNõukogude Liidus oodatakse 80ndaid\, mil suurte juhtide sõnul peab saabuma Kommunistlik paradiis\, kuid tõde on sellest kaugel: kõikjal valitseb vaesus\, puudus\, ideoloogiline kontroll ning ohjeldamatu rakettide tootmine\, et tulla moraalselt toime üha süveneva tuumasõja ohuga.\nKeset kõige võikamat stagnaaega\, 1982. aasta oktoobri lõpus\, kogunevad ühe Pääsküla garaaži pealsesse prooviruumi Ivo “Munk” Uukkivi\, Allan Vainola\, Peep Männil ja Villu Tamme ning panevad aluse punkbändile Velikije Luki. Bändi liikmed saavad oma nahal tunda võimude repressioone (vahistamised\, peksmised\, sundravi\, kontsertide keeld jne.)\, kuid jätkavad visalt oma teed\, toetudes alkoholi julgustavatele aurudele\, mis juhuslike kokkusattumuste kaudu viib kogu Nõukogude Liidu kokkuvarisemiseni.\nSee on film\, mis paneb sind naerma\, mõtlema ja tundma\, et toona oli kõik nii jabur ja samas nii päris.\nKategooria: Dokumentaalfilm |Žanr: Tõsielufilm\, draama\, komöödia\nRežissöör: Indrek SpunginTootja: Menu Filmid\n6€ tavapilet\, 5€ sooduspilet
URL:https://sauekultuur.ee/sundmus/kino-onn-on-elada-me-maal/
LOCATION:Haiba rahvamaja\, Riisipere tee 6\, Haiba\, Saue vald\, Eesti
ATTACH;FMTTYPE=image/jpeg:https://sauekultuur.ee/wp-content/uploads/2026/04/672673399_1384545297041544_1800440220709442299_n.jpg
END:VEVENT
BEGIN:VEVENT
DTSTART;TZID=Europe/Helsinki:20260515T190000
DTEND;TZID=Europe/Helsinki:20260515T203000
DTSTAMP:20260420T141734
CREATED:20260405T205148Z
LAST-MODIFIED:20260405T205148Z
UID:5263-1778871600-1778877000@sauekultuur.ee
SUMMARY:KINO: "Svingerid 2"
DESCRIPTION:Kui sa oled luumurrule plaastri pannud\, kas sa siis imestad\, et kohe püsti karata ja jooksu pista pole väga võimalik? Tuleb välja\, et samamoodi on lood svingimisega. Õigemini sellega\, kui loodetakse\, et väike (aga mitte kunagi süütu) paarivahetus kõik sinu suhteprobleemid otsekui võluvitsa abil lahendab.\nSeda peavad kahjuks omal nahal tundma nii Indrek ja Elen kui ka Tiina ja Andrus. Need kaks erineva taustaga paari on endiselt kimpus oma suhte värskena hoidmisega. Põhjuseid selleks jagub muidugi kuhjaga – Indrek\, varem nii enesekindel ja bravuurikas\, on pidanud kõrvalt vaatama\, kuidas tema toimekas abikaasa on saavutanud suurt äriedu samal ajal\, kui rohked hulljulged investeeringud keeruliste nimedega riikides on mehe majanduslikus seisus suuri korrektuure teinud ja ta naise rahakotist sõltuma pannud. Oma vajakajäämisi on ta aga varmas korvama vallutustega vasakult ja paremalt\, kuni tema teed ristuvad Ingaga\, kes ei kavatse olla mingi suvaline vallutus. Indrek saab nüüd omal nahal tunda\, mida tähendab sihikindla vastassoo esindaja märklauaks olemine.\nAndrus tunneb\, et elurõõm on sõrmede vahelt libisemas ja üritab oma tunnetest Tiinale teada anda\, tehese seda aga õnnetuseks täpselt nii sujuvalt\, kui seda ühelt keskmiselt eesti mehelt oodata on.\nLahendus kõikidele nendele probleemidele näib olevat uus\, intensiivne paariteraapia uues ja trendikas keskuses nimega “Draama-Maa”\, kus saab läbi mängida kõikvõimalikud paaristsenaariumid ja nagu tuleb välja – tulla lagedale ka täiesti uute ja ennekuulmatute probleemidega\, millele aitab omalt poolt kaasa ka erinevad värvikad tegelased\, kes samuti näivad arvavat\, et väike annus draamat saab suhtele ainult head teha…\n“Svingerid 2” on 2017. aastal Eesti kinosid vallutanud muretu komöödia järg\, kus esimesest filmist tuttavad tegelased püüavad muutuvate aegadega sammu pidada ja samas vaadata\, et neil endil oleks ikka piisavalt aega sellele\, mis elus tegelikult tähtis on.\nŽanr: Komöödia\, Eesti filmRežissöör: Andrejs ĒķisPikkus: 1h 31minOsatäitjad: Jan Uuspõld\, Elina Pähklimägi\, Ago Anderson\, Elina Reinold\n 6€ tavapilet\, 5€ sooduspilet (õpilane\, pensionär)
URL:https://sauekultuur.ee/sundmus/kino-svingerid-2-2/
LOCATION:Riisipere kultuurimaja\, Nissi tee 53c\, Riisipere\, Saue vald\, Eesti
ATTACH;FMTTYPE=image/jpeg:https://sauekultuur.ee/wp-content/uploads/2026/04/659697431_1353259833518613_1946293753989959277_n.jpg
END:VEVENT
BEGIN:VEVENT
DTSTART;TZID=Europe/Helsinki:20260523T110000
DTEND;TZID=Europe/Helsinki:20260523T160000
DTSTAMP:20260420T141734
CREATED:20260414T072402Z
LAST-MODIFIED:20260414T072402Z
UID:5272-1779534000-1779552000@sauekultuur.ee
SUMMARY:Saue Sõlg "Las jääda meile päriseks"
DESCRIPTION:23. mail toimub taas rahvakultuuri üritus Saue Sõlg\, mis sel korral kannab pealkirja “Las jääda meile päriseks” ehk sauelaste lemmikviisid ja –rütmid \nIga laul\, tants või pillilugu jätab esitajasse erinevaid emotsioone ja aistinguid: on neid\, mis meeldivad juba esimese ümisemise-proovimise järel\, aga on ka neid\, mis jätavad neutraalseks või ei hakkagi kunagi meeldima. Ja pole vahet\, kas lemmiklugu on õppimise käigus tulnud kergelt või raskelt\, selles lihtsalt on midagi\, mispärast seda tahaks aina ja aina uuesti teha. Une pealt ja igas olukorras. \nPäevale lükkame hoo sisse\, kui kell 11.00 asuvad kollektiivid ühisele rongkäigule Saue vallamaja juurest. Kell 11.30 algab kontsert Saue jaanituleplatsil\, kus esinevad koorilauljad\, rahvatantsijad\, rahvamuusikud ning orkestrid Sauelt ja kaugemaltki.
URL:https://sauekultuur.ee/sundmus/saue-solg-las-jaada-meile-pariseks/
LOCATION:Saue jaanituleplats\, Saue\, Saue vald
ATTACH;FMTTYPE=image/png:https://sauekultuur.ee/wp-content/uploads/2026/04/SAUE-SLG-2026-ajalehek-2apr1-scaled.png
END:VEVENT
BEGIN:VEVENT
DTSTART;VALUE=DATE:20260613
DTEND;VALUE=DATE:20260614
DTSTAMP:20260420T141734
CREATED:20260312T110949Z
LAST-MODIFIED:20260312T110949Z
UID:5230-1781308800-1781395199@sauekultuur.ee
SUMMARY:Laagri kohvikutepäev 2026
DESCRIPTION:Legendaarne Laagri kohvikutepäev tuleb taas!\nVõta kallid kaasa ja tule kohvikutesse!Eksklusiivsed ühepäevapuhvetid avatakse koduõuel\, väravaesisel ja pargilapikesel. Pakutakse kohvi ja kultuuri\, ampse ja armastust\, meeleolu ja programmi.\nKa sellel aastal toimub kohvikute külastusmäng\, mille auhinnad loosime välja õhtuse kontserdi eel\, kell 18 Jõekääru pargis. Kohvikutepäeva kontserdi staari avaldame peagi!\nPalun vaata lisainfot siin: https://www.facebook.com/groups/1281886581930673\n…ja hoia pilk peal ka siin üritusel\, kus jagame palju vajalikku infot selle kohta\, mis toimuma hakkab. \nOled lahkelt palutud ja oodatud!
URL:https://sauekultuur.ee/sundmus/laagri-kohvikutepaev-2026/
LOCATION:Laagri kultuurikeskus\, Veskitammi 8\, Harju maakond\, Laagri
ATTACH;FMTTYPE=image/jpeg:https://sauekultuur.ee/wp-content/uploads/2026/03/650843768_2033766400777094_2788291719391411672_n.jpg
END:VEVENT
END:VCALENDAR