BEGIN:VCALENDAR
VERSION:2.0
PRODID:-//Saue kultuuri- ja huvikeskus - ECPv6.2.1//NONSGML v1.0//EN
CALSCALE:GREGORIAN
METHOD:PUBLISH
X-WR-CALNAME:Saue kultuuri- ja huvikeskus
X-ORIGINAL-URL:https://sauekultuur.ee
X-WR-CALDESC:Events for Saue kultuuri- ja huvikeskus
REFRESH-INTERVAL;VALUE=DURATION:PT1H
X-Robots-Tag:noindex
X-PUBLISHED-TTL:PT1H
BEGIN:VTIMEZONE
TZID:Europe/Helsinki
BEGIN:DAYLIGHT
TZOFFSETFROM:+0200
TZOFFSETTO:+0300
TZNAME:EEST
DTSTART:20260329T010000
END:DAYLIGHT
BEGIN:STANDARD
TZOFFSETFROM:+0300
TZOFFSETTO:+0200
TZNAME:EET
DTSTART:20261025T010000
END:STANDARD
END:VTIMEZONE
BEGIN:VEVENT
DTSTART;VALUE=DATE:20260406
DTEND;VALUE=DATE:20260601
DTSTAMP:20260423T140951
CREATED:20260413T153135Z
LAST-MODIFIED:20260413T153135Z
UID:5269-1775433600-1780271999@sauekultuur.ee
SUMMARY:Raido Hubergi fotonäitus
DESCRIPTION:Aprillikuu tõi Saue vallamaja akendele ka uue näituse  Kuni mai lõpuni saab uudistada Raido Hubergi fotonäitust\, mis sündis rännakul Edela-Ameerika avarustes\, kus puuduvad inimtekkelised maamärgid ja fookuses on hoopis looduslikud pühamud \n\n\nTee oma jalutuskäigul väike paus vallamaja juures ja naudi tasuta näitust!
URL:https://sauekultuur.ee/sundmus/raido-hubergi-fotonaitus-2/
LOCATION:Saue vallamaja\, Kütise 8\, Saue\, Saue vald\, Eesti
ATTACH;FMTTYPE=image/png:https://sauekultuur.ee/wp-content/uploads/2026/04/Raido-Hubergi-fotonaitus.png
END:VEVENT
BEGIN:VEVENT
DTSTART;TZID=Europe/Helsinki:20260507T190000
DTEND;TZID=Europe/Helsinki:20260507T200000
DTSTAMP:20260423T140951
CREATED:20260210T144534Z
LAST-MODIFIED:20260210T144534Z
UID:5177-1778180400-1778184000@sauekultuur.ee
SUMMARY:Emadepäeva kontsert: Hanna-Liina Võsa ja Ooper-Kvartett
DESCRIPTION:Emadepäeva puhul ootab Saue muusikasõpru tõeline maiuspala. 7. mail kell 19.00 tulevad Saue vallamaja aatriumi lavale armastatud Hanna-Liina Võsa ja Ooper-Kvartett kavaga “Helisev muusika”. \nPiletid saadaval Fientas ja tund enne üritust kohapeal.
URL:https://sauekultuur.ee/sundmus/emadepaeva-kontsert-hanna-liina-vosa-ja-ooper-kvartett/
LOCATION:Saue vallamaja\, Kütise 8\, Saue\, Saue vald\, Eesti
ATTACH;FMTTYPE=image/png:https://sauekultuur.ee/wp-content/uploads/2026/02/SAUE-mo-HANNA-A1-v1.png
END:VEVENT
BEGIN:VEVENT
DTSTART;TZID=Europe/Helsinki:20260523T110000
DTEND;TZID=Europe/Helsinki:20260523T160000
DTSTAMP:20260423T140951
CREATED:20260414T072402Z
LAST-MODIFIED:20260414T072402Z
UID:5272-1779534000-1779552000@sauekultuur.ee
SUMMARY:Saue Sõlg "Las jääda meile päriseks"
DESCRIPTION:23. mail toimub taas rahvakultuuri üritus Saue Sõlg\, mis sel korral kannab pealkirja “Las jääda meile päriseks” ehk sauelaste lemmikviisid ja –rütmid \nIga laul\, tants või pillilugu jätab esitajasse erinevaid emotsioone ja aistinguid: on neid\, mis meeldivad juba esimese ümisemise-proovimise järel\, aga on ka neid\, mis jätavad neutraalseks või ei hakkagi kunagi meeldima. Ja pole vahet\, kas lemmiklugu on õppimise käigus tulnud kergelt või raskelt\, selles lihtsalt on midagi\, mispärast seda tahaks aina ja aina uuesti teha. Une pealt ja igas olukorras. \nPäevale lükkame hoo sisse\, kui kell 11.00 asuvad kollektiivid ühisele rongkäigule Saue vallamaja juurest. Kell 11.30 algab kontsert Saue jaanituleplatsil\, kus esinevad koorilauljad\, rahvatantsijad\, rahvamuusikud ning orkestrid Sauelt ja kaugemaltki.
URL:https://sauekultuur.ee/sundmus/saue-solg-las-jaada-meile-pariseks/
LOCATION:Saue jaanituleplats\, Saue\, Saue vald
ATTACH;FMTTYPE=image/png:https://sauekultuur.ee/wp-content/uploads/2026/04/SAUE-SLG-2026-ajalehek-2apr1-scaled.png
END:VEVENT
END:VCALENDAR